BEGIN:VCALENDAR
VERSION:2.0
PRODID:-//Date iCal//NONSGML kigkonsult.se iCalcreator 2.20.2//
METHOD:PUBLISH
X-WR-CALNAME;VALUE=TEXT:Event Calendar
BEGIN:VEVENT
UID:calendar.10978.field_event_date.0@ny.audubon.org
DTSTAMP:20210501T185541Z
CREATED:20210413T195931Z
DESCRIPTION:Join Theodore Roosevelt Sanctuary and Audubon Center for\n  Sat
 urday\, June 5\, 2021 - \n12:00 to 17:00
DTSTART:20210605T120000Z
DTEND:20210605T170000Z
LAST-MODIFIED:20210413T195931Z
LOCATION:134 Cove Road\, Oyster Bay\, New York\, 11771\, United States
SUMMARY:2021 Spring Benefit: Art & Music in the Gardens
URL;TYPE=URI:https://ny.audubon.org/events/2021-spring-benefit-art-music-ga
 rdens
END:VEVENT
END:VCALENDAR
